BEGIN:VCALENDAR
VERSION:2.0
PRODID:-//Huntsville Tennis Center - ECPv6.15.20//NONSGML v1.0//EN
CALSCALE:GREGORIAN
METHOD:PUBLISH
X-WR-CALNAME:Huntsville Tennis Center
X-ORIGINAL-URL:https://huntsvilletenniscenter.com
X-WR-CALDESC:Events for Huntsville Tennis Center
REFRESH-INTERVAL;VALUE=DURATION:PT1H
X-Robots-Tag:noindex
X-PUBLISHED-TTL:PT1H
BEGIN:VTIMEZONE
TZID:UTC
BEGIN:STANDARD
TZOFFSETFROM:+0000
TZOFFSETTO:+0000
TZNAME:UTC
DTSTART:20190101T000000
END:STANDARD
END:VTIMEZONE
BEGIN:VEVENT
DTSTART;TZID=UTC:20241009T173000
DTEND;TZID=UTC:20241013T180000
DTSTAMP:20260424T154001
CREATED:20240910T165522Z
LAST-MODIFIED:20240910T174516Z
UID:3298-1728495000-1728842400@huntsvilletenniscenter.com
SUMMARY:HWTA Roselyn Donnelly Fall Charity Tournament
DESCRIPTION:Huntsville Women’s Tennis Association Roselyn Donnelly Fall Charity Tournament- October 9-13\, 2024 at the Huntsville Tennis Center. Men’s and Women’s Combos and Mixed Doubles.\nWomen’s 5.5\, 6.5\, 7.5\, Combo (18\, 40\, 55\, & 65+)\nMen’s 6.5\, 7.5 Combo (40 & 55+)\nMixed Doubles 3.0\, 3.5\, 4.0 (18\, 40\, 55\, & 65+)\nProceeds will benefit the Huntsville Hospital Breast Cancer Assistance Fund. \n$40.00 per person for the first event and $25.00 for the second. Register online at PLAYTENNIS.USTA.COM/TOURNAMENTS. \nRegistration opens August 21\, 2024.
URL:https://huntsvilletenniscenter.com/event-one/hwta-roselyn-donnelly-fall-charity-tournament/
LOCATION:Huntsville Tennis Center\, 2305 Airport Road\, Huntsville\, AL\, 35805
CATEGORIES:Events,Tournaments
END:VEVENT
BEGIN:VEVENT
DTSTART;VALUE=DATE:20230530
DTEND;VALUE=DATE:20230605
DTSTAMP:20260424T154001
CREATED:20230117T155539Z
LAST-MODIFIED:20230117T155539Z
UID:1813-1685404800-1685923199@huntsvilletenniscenter.com
SUMMARY:Callen Cup-USTA 2023
DESCRIPTION:Men’s & Women’s Singles & Doubles: 35s; 45s\, 55s\, 65s\, 75s (clay)
URL:https://huntsvilletenniscenter.com/event-one/callen-cup-usta-2023/
LOCATION:Huntsville Tennis Center\, 2305 Airport Road\, Huntsville\, AL\, 35805
CATEGORIES:Events,Tournaments
ORGANIZER;CN="Joc Simmons":MAILTO:joc@huntsvilletenniscenter.com
END:VEVENT
BEGIN:VEVENT
DTSTART;VALUE=DATE:20210127
DTEND;VALUE=DATE:20210128
DTSTAMP:20260424T154001
CREATED:20210129T061121Z
LAST-MODIFIED:20210129T061121Z
UID:411-1611705600-1611791999@huntsvilletenniscenter.com
SUMMARY:Announcing February 2021 Youth Tennis Clinics
DESCRIPTION:We are excited to announce our February Youth Tennis Program instructed by USPTA Certified Tennis Professionals. Each child will receive individual instruction in a fun yet competitive training environment. Results will be solid stroke understanding\, game positioning\, game play\, strategies\, and experience. And\, LOTS OF FUN! *Each Clinic includes: Cardio\, Ball Coordination\, Stroke Fundamentals\, Positioning and Game Play. \nTuesday and Thursday beginning February 2nd thru February 23rd\nAges: 4-7 (Tiny Stars) $10 per clinic 3:30pm-4:00pm\nAges: 8-10 (Stars) $15 per clinic 4:15pm-5:15pm\nAges: 11+ Thunder (Beginners) $15 per clinic 4:15pm-5:15pm\nAges: 11+ Lightning (Intermediate) $15 per clinic 4:15pm-5:15pm\n8 Player Max on each age group \nCheck/Cash/Credit Card payments due before or by February 2nd 2021. Prepayment required to reserve spots ****Rain Outs will be made up in upcoming clinics. \nUSPTA Pros: David Kingsbury\, and Roland Markwalter For further information and registration contact: David Kingsbury at davidkingsbury@gmail.com = (256) 503-2575
URL:https://huntsvilletenniscenter.com/event-one/announcing-february-2021-youth-tennis-clinics/
CATEGORIES:Events
END:VEVENT
BEGIN:VEVENT
DTSTART;VALUE=DATE:20210125
DTEND;VALUE=DATE:20210126
DTSTAMP:20260424T154001
CREATED:20210129T061724Z
LAST-MODIFIED:20210129T061724Z
UID:417-1611532800-1611619199@huntsvilletenniscenter.com
SUMMARY:Home School Tennis For Kids With Roland
DESCRIPTION:Focus is on everything tennis from strokes to match play.\n$15 per person \nWednesday (8 player max) Ages 7-10 10-11am\nWednesday (8 player max) Ages 11-17 11am-12pm \nFriday (8 player max) Ages 10 and under 10-11am\nFriday (8 player max) Ages 11 and up 11am-12pm \nSign up today to lock in your spot.
URL:https://huntsvilletenniscenter.com/event-one/home-school-tennis-for-kids-with-roland/
CATEGORIES:Events
END:VEVENT
BEGIN:VEVENT
DTSTART;VALUE=DATE:20210125
DTEND;VALUE=DATE:20210126
DTSTAMP:20260424T154001
CREATED:20210129T061454Z
LAST-MODIFIED:20210129T143628Z
UID:414-1611532800-1611619199@huntsvilletenniscenter.com
SUMMARY:Huntsville Women’s Tennis Association (Hwta) Join/renewal Time Is Here
DESCRIPTION:HUNTSVILLE WOMENS TENNIS ASSOCIATION (HWTA) \nRENEW/ JOIN FOR 2021 – NEW RANDOM MONTHLY DRAWING STARTING \nLadies\, \nYear 2020 was a pandemic year that altered our past year life’s in many ways\, but HWTA is passionate about its members/tennis sisters. It is time now to send in your HWTA membership renewal for 2021. HWTA cares and misses you when you are not an active member. So\, whether you are keeping your HWTA tennis sister membership streak going or were a past member HWTA is hoping that you will consider coming back to join HWTA this year. Our new 2021 HWTA president Katy Ripley is already implementing new ideas to make 2021 a great year for the HWTA ladies and kickoffs 2021 with a new monthly random drawing where a special gift will go to one lucky HWTA member each month this year. The gift will be displayed at the Huntsville Tennis Center each month prior to the drawing. How exciting! Hurry and get in on this monthly drawing by joining HWTA now. \nOnly $15.00 to join HWTA each year – pay by check (payable to HWTA) or cash. Use the Drop off box at HTC or mail. \nNo form necessary if prior member – just let me know if you have any changes to your information. If new to HWTA – please provide a form with all your contact information. \nKim McCandles\n28613 Cobble Creek Rd NW\nMadison\, AL 35756 \nKim McCandless \nHWTA\, Membership 2021
URL:https://huntsvilletenniscenter.com/event-one/huntsville-womens-tennis-association-hwta-join-renewal-time-is-here/
CATEGORIES:Events
END:VEVENT
BEGIN:VEVENT
DTSTART;VALUE=DATE:20210119
DTEND;VALUE=DATE:20210120
DTSTAMP:20260424T154001
CREATED:20210129T062258Z
LAST-MODIFIED:20210129T062258Z
UID:419-1611014400-1611100799@huntsvilletenniscenter.com
SUMMARY:JUNIOR DROP-INS 2021
DESCRIPTION:EVERY MONDAY AND WEDNESDAY! \nAGES 8-10 4PM-5PM 6TH TO 12TH GRADE 5PM-6PM \nDrop in Once or every time. Begins Wednesday February 17\, 2021. No drop-ins when school is not in session.
URL:https://huntsvilletenniscenter.com/event-one/junior-drop-ins-2021/
CATEGORIES:Events
END:VEVENT
BEGIN:VEVENT
DTSTART;VALUE=DATE:20210118
DTEND;VALUE=DATE:20210119
DTSTAMP:20260424T154001
CREATED:20210129T062625Z
LAST-MODIFIED:20210129T062625Z
UID:423-1610928000-1611014399@huntsvilletenniscenter.com
SUMMARY:Announcing Round Robin Doubles Tournament
DESCRIPTION:Comments Off on Announcing Round Robin Doubles Tournament \nAnnouncing Feb-Mar 2021 – Round Robin Doubles Tournament! Due to the great success of the Winter Round Robin – we are offering this great opportunity for Women\, Men and Mixed to play one match every week – with a playoff and championship too! Divisions are; Women 2.5\, 3.0\, 3.5 – Men 3.0\, 3.5 – Mixed 5.5\, 6.0\, 6.5\nGrab a doubles partner and Join the Fun!  Limited team spots available! For more information and/or reserve your team a spot\, contact David Kingsbury\, USPTA Pro\, 256-503-2575 or davidjkingsbury@gmail.com
URL:https://huntsvilletenniscenter.com/event-one/announcing-round-robin-doubles-tournament/
CATEGORIES:Events
END:VEVENT
BEGIN:VEVENT
DTSTART;VALUE=DATE:20210118
DTEND;VALUE=DATE:20210119
DTSTAMP:20260424T154001
CREATED:20210129T062430Z
LAST-MODIFIED:20210129T062430Z
UID:421-1610928000-1611014399@huntsvilletenniscenter.com
SUMMARY:High Intensity Workout
DESCRIPTION:Wednesday–5:30pm-6:30pm ($15) –8 person max\, Reservation Required. Adults ONLY– Rated 3.0 and below Clinic (with Roland Markwalter). Focus on all shots with added cardio workout\, and situational play. Email Roland to reserve your spot: roland@huntsvilletenniscenter.com \nWednesday – 6:30pm-7:30pm  ($15) – 8 person max\, Reservations Required\nAdults ONLY –Rated USTA 3.0 and up Clinic (with Roland Markwalter) Lots of drills and game play to improve you game. Most of all\, lots of Fun!  Email Roland to reserve your spot: roland@huntsvilletenniscenter.com
URL:https://huntsvilletenniscenter.com/event-one/high-intensity-workout/
CATEGORIES:Events
END:VEVENT
BEGIN:VEVENT
DTSTART;VALUE=DATE:20201111
DTEND;VALUE=DATE:20201112
DTSTAMP:20260424T154001
CREATED:20210129T060037Z
LAST-MODIFIED:20210129T061543Z
UID:405-1605052800-1605139199@huntsvilletenniscenter.com
SUMMARY:Winter Weather Reminder
DESCRIPTION:As cold conditions occur\, it may affect your public clay court scheduled time.\nPlease be sure to check HTC court status for all court conditions.\nWe will provide updates as often as necessary until clay courts are available.\nWhen temperatures fall at freezing or below freezing\,\nClay courts freeze and lines rise above the surface.\nThis may delay morning and/or afternoon play times.\nPlease be sure to check the website before your scheduled court time.\nHTC will continue to update as cold freezing conditions occur.\nThank you Joc Simmons – Director\nThis is what the courts look like after a hard freeze at 11 am in full sun!
URL:https://huntsvilletenniscenter.com/event-one/winter-weather-reminder/
CATEGORIES:Events
ATTACH;FMTTYPE=image/jpeg:https://huntsvilletenniscenter.com/wp-content/uploads/2021/01/thumb.jpg
END:VEVENT
END:VCALENDAR