BEGIN:VCALENDAR
VERSION:2.0
PRODID:-//Huntsville Tennis Center - ECPv6.15.20//NONSGML v1.0//EN
CALSCALE:GREGORIAN
METHOD:PUBLISH
X-ORIGINAL-URL:https://huntsvilletenniscenter.com
X-WR-CALDESC:Events for Huntsville Tennis Center
REFRESH-INTERVAL;VALUE=DURATION:PT1H
X-Robots-Tag:noindex
X-PUBLISHED-TTL:PT1H
BEGIN:VTIMEZONE
TZID:UTC
BEGIN:STANDARD
TZOFFSETFROM:+0000
TZOFFSETTO:+0000
TZNAME:UTC
DTSTART:20200101T000000
END:STANDARD
END:VTIMEZONE
BEGIN:VEVENT
DTSTART;TZID=UTC:20241009T173000
DTEND;TZID=UTC:20241013T180000
DTSTAMP:20260424T153928
CREATED:20240910T165522Z
LAST-MODIFIED:20240910T174516Z
UID:3298-1728495000-1728842400@huntsvilletenniscenter.com
SUMMARY:HWTA Roselyn Donnelly Fall Charity Tournament
DESCRIPTION:Huntsville Women’s Tennis Association Roselyn Donnelly Fall Charity Tournament- October 9-13\, 2024 at the Huntsville Tennis Center. Men’s and Women’s Combos and Mixed Doubles.\nWomen’s 5.5\, 6.5\, 7.5\, Combo (18\, 40\, 55\, & 65+)\nMen’s 6.5\, 7.5 Combo (40 & 55+)\nMixed Doubles 3.0\, 3.5\, 4.0 (18\, 40\, 55\, & 65+)\nProceeds will benefit the Huntsville Hospital Breast Cancer Assistance Fund. \n$40.00 per person for the first event and $25.00 for the second. Register online at PLAYTENNIS.USTA.COM/TOURNAMENTS. \nRegistration opens August 21\, 2024.
URL:https://huntsvilletenniscenter.com/event-one/hwta-roselyn-donnelly-fall-charity-tournament/
LOCATION:Huntsville Tennis Center\, 2305 Airport Road\, Huntsville\, AL\, 35805
CATEGORIES:Events,Tournaments
END:VEVENT
BEGIN:VEVENT
DTSTART;VALUE=DATE:20230530
DTEND;VALUE=DATE:20230605
DTSTAMP:20260424T153928
CREATED:20230117T155539Z
LAST-MODIFIED:20230117T155539Z
UID:1813-1685404800-1685923199@huntsvilletenniscenter.com
SUMMARY:Callen Cup-USTA 2023
DESCRIPTION:Men’s & Women’s Singles & Doubles: 35s; 45s\, 55s\, 65s\, 75s (clay)
URL:https://huntsvilletenniscenter.com/event-one/callen-cup-usta-2023/
LOCATION:Huntsville Tennis Center\, 2305 Airport Road\, Huntsville\, AL\, 35805
CATEGORIES:Events,Tournaments
ORGANIZER;CN="Joc Simmons":MAILTO:joc@huntsvilletenniscenter.com
END:VEVENT
BEGIN:VEVENT
DTSTART;VALUE=DATE:20230518
DTEND;VALUE=DATE:20230522
DTSTAMP:20260424T153928
CREATED:20230117T162056Z
LAST-MODIFIED:20230117T162056Z
UID:1817-1684368000-1684713599@huntsvilletenniscenter.com
SUMMARY:USTA 55 and Over
DESCRIPTION:
URL:https://huntsvilletenniscenter.com/event-one/usta-55-and-over/
LOCATION:Huntsville Tennis Center\, 2305 Airport Road\, Huntsville\, AL\, 35805
ORGANIZER;CN="Joc Simmons":MAILTO:joc@huntsvilletenniscenter.com
END:VEVENT
BEGIN:VEVENT
DTSTART;TZID=UTC:20220603T080000
DTEND;TZID=UTC:20220606T180000
DTSTAMP:20260424T153928
CREATED:20220404T183154Z
LAST-MODIFIED:20220404T183154Z
UID:1367-1654243200-1654538400@huntsvilletenniscenter.com
SUMMARY:USTA Adult 40 & Over 3.0/4.0 State Championships
DESCRIPTION:USTA Adult 40 & Over 3.0-4.0 State Championships
URL:https://huntsvilletenniscenter.com/event-one/usta-adult-40-over-3-0-4-0-state-championships/
LOCATION:Huntsville Tennis Center\, 2305 Airport Road\, Huntsville\, AL\, 35805
CATEGORIES:Tournaments
ORGANIZER;CN="Valerie Coats":MAILTO:htcmanager2305@gmail.com
END:VEVENT
BEGIN:VEVENT
DTSTART;VALUE=DATE:20210603
DTEND;VALUE=DATE:20210607
DTSTAMP:20260424T153928
CREATED:20210414T174101Z
LAST-MODIFIED:20210415T131356Z
UID:608-1622678400-1623023999@huntsvilletenniscenter.com
SUMMARY:Adult 40 & Over 3.0/4.0 Alabama State Championships
DESCRIPTION:This is a list of participating hotels in the area for the Alabama State Adult Tennis Championships. Group code HTC! \nHampton Inn Huntsville – Arsenal/South Parkway \n$90.00 \n501 boulevard southwest \nHuntsville\, Al 35802 \n256-882-2229 \n  \nDouble Tree Hotel \n$109.00 \n6000 Memorial Pwky SW \nHuntsville\, Al 35802 \n256-882-9400 \n  \nSpringHill Suites (Downtown) \n$109.00 \n745 Constellation Place Drive \nHuntsville\, Al 35801 \n256-512-0188 \n  \nAC Hotel (Downtown) \n$149.00 \n435 Williams AVE SW \nHuntsville\, AL 35801 \n256-836-7776
URL:https://huntsvilletenniscenter.com/event-one/adult-40-over-3-0-4-0-alabama-state-championships/
LOCATION:Huntsville Tennis Center\, 2305 Airport Road\, Huntsville\, AL\, 35805
END:VEVENT
END:VCALENDAR